BEGIN:VCALENDAR
VERSION:2.0
PRODID:-//Momentful Club - ECPv6.15.20//NONSGML v1.0//EN
CALSCALE:GREGORIAN
METHOD:PUBLISH
X-WR-CALNAME:Momentful Club
X-ORIGINAL-URL:https://momentful.club
X-WR-CALDESC:Events for Momentful Club
REFRESH-INTERVAL;VALUE=DURATION:PT1H
X-Robots-Tag:noindex
X-PUBLISHED-TTL:PT1H
BEGIN:VTIMEZONE
TZID:Asia/Dubai
BEGIN:STANDARD
TZOFFSETFROM:+0400
TZOFFSETTO:+0400
TZNAME:+04
DTSTART:20230101T000000
END:STANDARD
END:VTIMEZONE
BEGIN:VEVENT
DTSTART;TZID=Asia/Dubai:20241101T200000
DTEND;TZID=Asia/Dubai:20241101T230000
DTSTAMP:20260424T221113
CREATED:20241019T131906Z
LAST-MODIFIED:20241019T131906Z
UID:674-1730491200-1730502000@momentful.club
SUMMARY:HALLOWEEN BASH
DESCRIPTION:Join us for a night of frightful fun with our exciting packages: \n• Package 1: VIRGIN \nVarious Canapés and mocktails \, juices and soft drinks – 290 AED \n• Package 2: HOUSE \nVarious Canapés\, drinks\, and alcoholic beverages; wine\, beer & spirits – 350 AED \n• Package 3: SPARKLING \n✨ Various Canapés\, Prosecco 🍾 \, cocktails🍸\, wine \, beer\, & spirits – 450 AED \n👻 Costume Contest Alert! \n• Best Couple Costume \n• Best Female Costume \n• Best Male Costume \nDress to impress and get ready for a hauntingly good time! Join us for a night filled with thrills\, chills\, and plenty of treats. \nDon’t miss your chance to win fabulous prizes\, network with the community and make unforgettable memories! \nCome if you dare… We’ll see you on the dance floor! \nFor payment in AED Please transfer in below mentioned Account. \nBank: Emirates NBD \nMEGHNA LAKHANI \nSwift Code: EBILAEAD \nIBAN: AE490260001014605624501 \nAddress P.O. Box 777\, Deira\, Dubai. UAE. \nkindly mention your Package type and ticket quantity in payment Reference. \nfor any inquiries contact info@momentful.club
URL:https://momentful.club/event/halloween-bash/
LOCATION:Broadway\, Corniche Street Mandarin oriental Emirates Palace\, Abu Dhabi\, United Arab Emirates
CATEGORIES:Social
ATTACH;FMTTYPE=image/jpeg:https://momentful.club/wp-content/uploads/2024/10/https___cdn.evbuc_.com_images_869355939_2344056463903_1_original.jpeg
ORGANIZER;CN="Momentful Club":MAILTO:info@momentful.club
END:VEVENT
BEGIN:VEVENT
DTSTART;VALUE=DATE:20241020
DTEND;VALUE=DATE:20241021
DTSTAMP:20260424T221113
CREATED:20241019T130330Z
LAST-MODIFIED:20241019T130442Z
UID:668-1729382400-1729468799@momentful.club
SUMMARY:ALUMNI PADEL TOURNAMENT DUBAI
DESCRIPTION:Welcome to the ALUMNI PADEL TOURNAMENT DUBAI! Get ready to show off your skills on the padel court and connect with alumni from various business schools in a fun and competitive atmosphere. \nThe tournament will take place at Just Padel – Mina Rashid on \nSunday 20-Oct 2024 starting at 17:00. \n19:30 Networking and refreshments after the games! \nAll business schools are welcome ( we will keep updating participants) \nDon’t miss out on this opportunity to network and create new memories with your fellow alumni\, . See you there! \nKindly note: Please input your school name and level in payment reference and Please specify Padel Level 2 to 4 or -D to C or send an email to info@momentful.club \nFor payment in AED Please transfer in below mentioned Account. \nBank: Emirates NBD \nMEGHNA LAKHANI \nSwift Code: EBILAEAD \nIBAN: AE490260001014605624501 \nAddress P.O. Box 777\, Deira\, Dubai.UAE. \nfor any inquiries contact +971505575666 info@momentful.club
URL:https://momentful.club/event/alumni-padel-tournament-dubai/
LOCATION:Just Padel – Mina Rashid\, JUST PADEL -MINA RASHID \, ID MARINA CUBES STREET\, Dubai\, United Arab Emirates
CATEGORIES:Social
ATTACH;FMTTYPE=image/png:https://momentful.club/wp-content/uploads/2024/10/Padel-Tournament-Dubai-20-Oct-1.png
ORGANIZER;CN="Momentful Club":MAILTO:info@momentful.club
END:VEVENT
BEGIN:VEVENT
DTSTART;TZID=Asia/Dubai:20240928T130000
DTEND;TZID=Asia/Dubai:20240928T170000
DTSTAMP:20260424T221113
CREATED:20240921T100159Z
LAST-MODIFIED:20240921T113311Z
UID:611-1727528400-1727542800@momentful.club
SUMMARY:Karaoke Brunch
DESCRIPTION:Join us for Karaoke Brunch! Saturday 28th September from 1 pm to 5 pm and immerse yourself in an unforgettable culinary and entertainment experience at XU. The brunch menu features a variety of appetizers\, the Chef’s Dim Sum selection\, main courses and Dessert platters. \n\nA Better Tomorrow priced at AED 295 (Non alcoholic package including XU Virgin Cocktails and soft drinks)\nDays of Being Wild priced at AED 425 (Including House Spirits\, XU Signature Cocktails or Beer and Selected Wine)\nIn the Mood for Love at AED 525 (Including Cocktails\, Champagne and Beer)\n\n*Packages are available for 3 hours \n 
URL:https://momentful.club/event/karaoke-brunch/
LOCATION:XU Dubai\, Kempinski Hotel\, Dubai\, Dubai\, United Arab Emirates
CATEGORIES:Social
ATTACH;FMTTYPE=image/jpeg:https://momentful.club/wp-content/uploads/2024/09/custom_resized_8cff85dc-9539-482f-953f-e8614d9a5abf.jpg
ORGANIZER;CN="Momentful Club":MAILTO:info@momentful.club
END:VEVENT
END:VCALENDAR